BEGIN:VCALENDAR
VERSION:2.0
PRODID:-//Ziber2013/
CALSCALE:GREGORIAN
BEGIN:VEVENT
UID:246028@https://www.schabergschool.nl
DTSTART:20260703T000000
DTEND:20260703T235959
SUMMARY:Studiedag Nieuwkomers
DESCRIPTION:<p>Alle leerlingen zijn vrij</p>
LOCATION:Meester Schabergschool\, Sirtemastraat 400\, 2513 XX Den Haag
X-MICROSOFT-CDO-ALLDAYEVENT:TRUE
ATTACH;FMTTYPE=image/jpeg:/content/28280/agenda/clnt/830e8f63232c4ac9a529b04ce34516f7.jpg?width=1600&height=1200
SEQUENCE:0
DTSTAMP:20260425T145223
END:VEVENT
END:VCALENDAR
