BEGIN:VCALENDAR
VERSION:2.0
PRODID:-//Ziber2013/
CALSCALE:GREGORIAN
BEGIN:VEVENT
UID:246033@https://www.schabergschool.nl
DTSTART:20260718T000000
DTEND:20260830T235959
SUMMARY:Zomervakantie
DESCRIPTION:<p>Iedereen een hele fijne zomervakantie</p>
LOCATION:Meester Schabergschool\, Sirtemastraat 400\, 2513 XX Den Haag
X-MICROSOFT-CDO-ALLDAYEVENT:TRUE
ATTACH;FMTTYPE=image/jpeg:/content/28280/agenda/clnt/575acebb20074645a6498ff8d77ca417.jpg?width=1600&height=1200
SEQUENCE:0
DTSTAMP:20260425T145309
END:VEVENT
END:VCALENDAR
