BEGIN:VCALENDAR
VERSION:2.0
PRODID:-//Ziber2013/
CALSCALE:GREGORIAN
BEGIN:VEVENT
UID:258784@https://www.schabergschool.nl
DTSTART:20260622T000000
DTEND:20260622T235959
SUMMARY:Peuterschool gesloten ivm studiedag
DESCRIPTION:
LOCATION:Meester Schabergschool\, Sirtemastraat 400\, 2513 XX Den Haag
X-MICROSOFT-CDO-ALLDAYEVENT:TRUE
ATTACH;FMTTYPE=image/jpeg:/content/monsterGallery/studyday.png?width=1600&height=1200
SEQUENCE:0
DTSTAMP:20260425T145412
END:VEVENT
END:VCALENDAR
