BEGIN:VCALENDAR
VERSION:2.0
PRODID:-//Ziber2013/
CALSCALE:GREGORIAN
BEGIN:VEVENT
UID:259230@https://www.schabergschool.nl
DTSTART:20260526T000000
DTEND:20260526T235959
SUMMARY:Vrije dag 26 mei 2026
DESCRIPTION:<p>Vandaag is de school gesloten.</p>
LOCATION:Meester Schabergschool\, Sirtemastraat 400\, 2513 XX Den Haag
X-MICROSOFT-CDO-ALLDAYEVENT:TRUE
ATTACH;FMTTYPE=image/jpeg:/content/28280/agenda/clnt/bc3f88ad1992443bbd464985e0995948.jpg?width=1600&height=1200
SEQUENCE:0
DTSTAMP:20260425T145344
END:VEVENT
END:VCALENDAR
