BEGIN:VCALENDAR
VERSION:2.0
PRODID:-//Ziber2013/
CALSCALE:GREGORIAN
BEGIN:VEVENT
UID:259231@https://www.schabergschool.nl
DTSTART:20260512T000000
DTEND:20260512T235959
SUMMARY:Schoolreisje
DESCRIPTION:<p>Vandaag gaan we op schoolreisje.</p><p>Verdere gegevens volgen nog.</p>
LOCATION:Meester Schabergschool\, Sirtemastraat 400\, 2513 XX Den Haag
X-MICROSOFT-CDO-ALLDAYEVENT:TRUE
ATTACH;FMTTYPE=image/jpeg:/content/28280/agenda/clnt/78d2287883634bfcb47c25ae572b130f.jpg?width=1600&height=1200
SEQUENCE:0
DTSTAMP:20260425T145224
END:VEVENT
END:VCALENDAR
